BEGIN:VCALENDAR
VERSION:2.0
PRODID:-//ChamberMaster//Event Calendar 2.0//EN
METHOD:PUBLISH
X-PUBLISHED-TTL:P3D
REFRESH-INTERVAL:P3D
CALSCALE:GREGORIAN
BEGIN:VEVENT
DTSTART:20210811T170000Z
DTEND:20210811T183000Z
X-MICROSOFT-CDO-ALLDAYEVENT:FALSE
SUMMARY:Government Affairs Meeting
DESCRIPTION:Nate Sampson (the GA consultant) has resigned. Tena is not able to be at the GA meeting on August 4 so we are moving the meeting to August 11. \n\nAt this meeting we would like to discuss the committee's need for a consultant and if necessary a replacement for Nate. Please join us or at the very least please share your thoughts with Joe Kress (committee chair) or Tena
X-ALT-DESC;FMTTYPE=text/html:Nate Sampson (the GA consultant) has resigned. Tena is not able to be at the GA meeting on August 4 so we are moving the meeting to August 11.&nbsp\;<br />\nAt this meeting we would like to discuss the committee&#39\;s need for a consultant and if necessary a replacement for Nate. Please join us or at the very least please share your thoughts with Joe Kress (committee chair) or Tena&nbsp\;
LOCATION:LABA Conference Room 816 2nd Ave. S\, Onalaska
UID:e.9477.1228
SEQUENCE:3
DTSTAMP:20260424T235535Z
URL:http://business.labaonline.com/events/details/government-affairs-meeting-08-11-2021-1228
END:VEVENT

END:VCALENDAR
