BEGIN:VCALENDAR
VERSION:2.0
PRODID:-//ChamberMaster//Event Calendar 2.0//EN
METHOD:PUBLISH
X-PUBLISHED-TTL:P3D
REFRESH-INTERVAL:P3D
CALSCALE:GREGORIAN
BEGIN:VEVENT
DTSTART:20240611T203000Z
DTEND:20240611T213000Z
X-MICROSOFT-CDO-ALLDAYEVENT:FALSE
SUMMARY:CANCELLED - Home Show Committee Meeting
DESCRIPTION:THIS JUNE MEETING HAS BEEN CANCELLED. \n\n\n\nLABA Home Show Committee Meeting
X-ALT-DESC;FMTTYPE=text/html:<span style="color:#FF0000\;"><span style="font-size:20px\;"><strong>THIS JUNE MEETING HAS BEEN CANCELLED. </strong></span></span><br />\n<br />\nLABA Home Show Committee Meeting
LOCATION:
UID:e.9477.2110
SEQUENCE:3
DTSTAMP:20260419T122416Z
URL:http://business.labaonline.com/events/details/cancelled-home-show-committee-meeting-06-11-2024-2110
END:VEVENT

END:VCALENDAR
