BEGIN:VCALENDAR
VERSION:2.0
PRODID:-//ChamberMaster//Event Calendar 2.0//EN
METHOD:PUBLISH
X-PUBLISHED-TTL:P3D
REFRESH-INTERVAL:P3D
CALSCALE:GREGORIAN
BEGIN:VEVENT
DTSTART:20240306T180000Z
DTEND:20240306T193000Z
X-MICROSOFT-CDO-ALLDAYEVENT:FALSE
SUMMARY:CANCELLED - Government Affairs Meeting
DESCRIPTION:Speaker: Steve Doyle - Postponed
X-ALT-DESC;FMTTYPE=text/html:Speaker: Steve Doyle - Postponed
LOCATION:LABA Conference Room 816 2nd Ave. S\, Onalaska
UID:e.9477.1259
SEQUENCE:3
DTSTAMP:20260424T223126Z
URL:http://business.labaonline.com/events/details/cancelled-government-affairs-meeting-03-06-2024-1259
END:VEVENT

END:VCALENDAR
