BEGIN:VCALENDAR
VERSION:2.0
PRODID:-//ChamberMaster//Event Calendar 2.0//EN
METHOD:PUBLISH
X-PUBLISHED-TTL:P3D
REFRESH-INTERVAL:P3D
CALSCALE:GREGORIAN
BEGIN:VEVENT
DTSTART:20211221T200000Z
DTEND:20211221T213000Z
X-MICROSOFT-CDO-ALLDAYEVENT:FALSE
SUMMARY:Board of Directors Meeting
DESCRIPTION:Monthly LABA Board of Directors Meeting
X-ALT-DESC;FMTTYPE=text/html:Monthly LABA Board of Directors Meeting
LOCATION:LABA Conference Room 816 2nd Ave. S Onalaska\, WI 54650
UID:e.9477.702
SEQUENCE:3
DTSTAMP:20260420T015333Z
URL:http://business.labaonline.com/events/details/board-of-directors-meeting-12-21-2021-702
END:VEVENT

END:VCALENDAR
